BEGIN:VCALENDAR
VERSION:2.0
PRODID:-//RCAW - ECPv6.14.1//NONSGML v1.0//EN
CALSCALE:GREGORIAN
METHOD:PUBLISH
X-WR-CALNAME:RCAW
X-ORIGINAL-URL:https://rioclimateactionweek.org
X-WR-CALDESC:Events for RCAW
REFRESH-INTERVAL;VALUE=DURATION:PT1H
X-Robots-Tag:noindex
X-PUBLISHED-TTL:PT1H
BEGIN:VTIMEZONE
TZID:America/Rio_Branco
BEGIN:STANDARD
TZOFFSETFROM:-0500
TZOFFSETTO:-0500
TZNAME:-05
DTSTART:20250101T000000
END:STANDARD
END:VTIMEZONE
BEGIN:VEVENT
DTSTART;TZID=America/Rio_Branco:20250829T100000
DTEND;TZID=America/Rio_Branco:20250829T130000
DTSTAMP:20260421T031804
CREATED:20250815T163855Z
LAST-MODIFIED:20250815T163855Z
UID:10000070-1756461600-1756472400@rioclimateactionweek.org
SUMMARY:The role of technology to achieve the circular economy and the sustainable development goals
DESCRIPTION:In a world seeking solutions to global challenges\, technology plays a key role in achieving the Sustainable Development Goals (SDG). The goal of the event is to foster a discussion on the importance of key technologies to achieve the circular economy. Also\, we would overcome the drawbacks in Brazil. This discussion will emphasize the relevance of cooperative projects locally and on a global scale. \nThe event will emphasize key circular economy feasibility\, such as biomass conversion to added-value products\, renewable hydrogen and C1 economy\, plastic residue conversion\, and catalysis. Also\, highlighting their complementary roles in advancing scientific knowledge within the framework of the 2030 COP Agenda. \nFor more information / to register\, contact:: Sbeenerg@gmail.com; maciel@iq.ufrj.br; perrone@inee.org.br
URL:https://rioclimateactionweek.org/event-details/the-role-of-technology-to-achieve-the-circular-economy-and-the-sustainable-development-goals/
LOCATION:Chemical Institute of UFRJ – Auditorium and Lab\, Av. Athos da Silveira Ramos\, 149 \, Bloco A\, Cidade Universitária\, Rio de Janeiro\, Rio de Janeiro\, Rio de Janeiro\, 21941-909\, Brazil
CATEGORIES:Programme
ATTACH;FMTTYPE=image/jpeg:https://rioclimateactionweek.org/wp-content/uploads/2025/08/689e208b70eea_sm.jpg
ORGANIZER;CN="INEE and Chemical Institute of UFRJ":MAILTO:perrone@inee.org.br
END:VEVENT
END:VCALENDAR